{
 "currentVersion": 10.61,
 "serviceDescription": "PAC/TRIBUGA_batimetria",
 "name": "PAC/TRIBUGA_batimetria",
 "description": "",
 "extent": {
  "xmin": 200511.135343705,
  "ymin": 606217.8068185659,
  "xmax": 246418.34110370502,
  "ymax": 669340.214738566,
  "spatialReference": {
   "wkid": 32618,
   "latestWkid": 32618
  }
 },
 "initialExtent": {
  "xmin": 200511.135343705,
  "ymin": 606217.8068185659,
  "xmax": 246418.34110370502,
  "ymax": 669340.214738566,
  "spatialReference": {
   "wkid": 32618,
   "latestWkid": 32618
  }
 },
 "fullExtent": {
  "xmin": 200511.135343705,
  "ymin": 606217.8068185659,
  "xmax": 246418.34110370502,
  "ymax": 669340.214738566,
  "spatialReference": {
   "wkid": 32618,
   "latestWkid": 32618
  }
 },
 "pixelSizeX": 318.8000400000001,
 "pixelSizeY": 318.80004000000014,
 "bandCount": 1,
 "pixelType": "F32",
 "minPixelSize": 0,
 "maxPixelSize": 0,
 "copyrightText": "",
 "serviceDataType": "esriImageServiceDataTypeGeneric",
 "minValues": [
  -1.0954822301864624
 ],
 "maxValues": [
  2118.697265625
 ],
 "meanValues": [
  718.0879586944945
 ],
 "stdvValues": [
  637.9792160562064
 ],
 "objectIdField": "",
 "fields": [],
 "capabilities": "Image,Metadata,Mensuration",
 "defaultMosaicMethod": "Center",
 "allowedMosaicMethods": "",
 "sortField": "",
 "sortValue": null,
 "mosaicOperator": "First",
 "defaultCompressionQuality": 75,
 "defaultResamplingMethod": "Bilinear",
 "maxImageHeight": 4100,
 "maxImageWidth": 15000,
 "allowRasterFunction": true,
 "rasterFunctionInfos": [
  {
   "name": "None",
   "description": "",
   "help": ""
  }
 ],
 "rasterTypeInfos": [
  {
   "name": "Raster Dataset",
   "description": "Supports all ArcGIS Raster Datasets",
   "help": ""
  }
 ],
 "mensurationCapabilities": "Basic",
 "hasHistograms": true,
 "hasColormap": false,
 "hasRasterAttributeTable": false,
 "minScale": 0,
 "maxScale": 0,
 "exportTilesAllowed": false,
 "hasMultidimensions": false,
 "supportsStatistics": false,
 "supportsAdvancedQueries": false,
 "editFieldsInfo": null,
 "ownershipBasedAccessControlForRasters": null,
 "allowComputeTiePoints": false,
 "useStandardizedQueries": true,
 "advancedQueryCapabilities": {
  "useStandardizedQueries": true,
  "supportsStatistics": false,
  "supportsOrderBy": false,
  "supportsDistinct": false,
  "supportsPagination": false
 },
 "spatialReference": {
  "wkid": 32618,
  "latestWkid": 32618
 }
}
