View In:
ArcGIS JavaScript
ArcGIS Online Map Viewer
ArcGIS Earth
ArcMap
View Footprint In:
ArcGIS Online Map Viewer
Service Description: PAC/Cartas_tribuga
Name: PAC/Cartas_tribuga
Description:
Single Fused Map Cache: false
Extent:
XMin: -77.999844648
YMin: 5.083421315700001
XMax: -77.22508579320001
YMax: 5.7221409789
Spatial Reference:
4326
(4326)
Initial Extent:
XMin: -77.999844648
YMin: 5.083421315700001
XMax: -77.22508579320001
YMax: 5.7221409789
Spatial Reference:
4326
(4326)
Full Extent:
XMin: -77.999844648
YMin: 5.083421315700001
XMax: -77.22508579320001
YMax: 5.7221409789
Spatial Reference:
4326
(4326)
Pixel Size X: 7.638359999999982E-5
Pixel Size Y: 7.638359999999987E-5
Band Count: 3
Pixel Type: U8
RasterFunction Infos: {"rasterFunctionInfos": [{
"name": "None",
"description": "",
"help": ""
}]}
Mensuration Capabilities: Basic
Has Histograms: true
Has Colormap: false
Has Multi Dimensions : false
Rendering Rule:
Min Scale: 0
Max Scale: 0
Copyright Text:
Service Data Type: esriImageServiceDataTypeRGB
Min Values: 0, 0, 0
Max Values: 255, 255, 255
Mean Values: 245.53139148684, 242.7755218646, 196.04640870657
Standard Deviation Values: 30.014848219662, 30.893660292607, 105.6240096202
Object ID Field:
Fields:
None
Default Mosaic Method: Center
Allowed Mosaic Methods:
SortField:
SortValue: null
Mosaic Operator: First
Default Compression Quality: 75
Default Resampling Method: Bilinear
Max Record Count: null
Max Image Height: 4100
Max Image Width: 15000
Max Download Image Count: null
Max Mosaic Image Count: null
Allow Raster Function: true
Allow Compute TiePoints: false
Supports Statistics: false
Supports Advanced Queries: false
Use StandardizedQueries: true
Raster Type Infos:
Name: Raster Dataset
Description: Supports all ArcGIS Raster Datasets
Help:
Has Raster Attribute Table: false
Edit Fields Info: null
Ownership Based AccessControl For Rasters: null
Child Resources:
Info
Histograms
Key Properties
Legend
MultiDimensionalInfo
rasterFunctionInfos
Supported Operations:
Export Image
Identify
Measure
Compute Histograms
Compute Statistics Histograms
Get Samples
Compute Class Statistics
Query Boundary