View In:
ArcGIS JavaScript
ArcGIS Online Map Viewer
ArcGIS Earth
ArcMap
View Footprint In:
ArcGIS Online Map Viewer
Service Description: 302
Name: PAC/Cartas_tribuga302
Description: 302
Single Fused Map Cache: false
Extent:
XMin: -77.8330988221
YMin: 5.5553017237999995
XMax: -77.2251302525
YMax: 6.2164828342
Spatial Reference:
4326
(4326)
Initial Extent:
XMin: -77.8330988221
YMin: 5.5553017237999995
XMax: -77.2251302525
YMax: 6.2164828342
Spatial Reference:
4326
(4326)
Full Extent:
XMin: -77.8330988221
YMin: 5.5553017237999995
XMax: -77.2251302525
YMax: 6.2164828342
Spatial Reference:
4326
(4326)
Pixel Size X: 7.645480000000051E-5
Pixel Size Y: 7.645480000000003E-5
Band Count: 3
Pixel Type: U8
RasterFunction Infos: {"rasterFunctionInfos": [{
"name": "None",
"description": "",
"help": ""
}]}
Mensuration Capabilities: Basic
Has Histograms: true
Has Colormap: false
Has Multi Dimensions : false
Rendering Rule:
Min Scale: 0
Max Scale: 0
Copyright Text:
Service Data Type: esriImageServiceDataTypeRGB
Min Values: 0, 0, 0
Max Values: 255, 255, 255
Mean Values: 247.77347767797, 244.00483244636, 198.14836220433
Standard Deviation Values: 29.154947002765, 30.602965638419, 104.45740742587
Object ID Field:
Fields:
None
Default Mosaic Method: Center
Allowed Mosaic Methods:
SortField:
SortValue: null
Mosaic Operator: First
Default Compression Quality: 75
Default Resampling Method: Bilinear
Max Record Count: null
Max Image Height: 4100
Max Image Width: 15000
Max Download Image Count: null
Max Mosaic Image Count: null
Allow Raster Function: true
Allow Compute TiePoints: false
Supports Statistics: false
Supports Advanced Queries: false
Use StandardizedQueries: true
Raster Type Infos:
Name: Raster Dataset
Description: Supports all ArcGIS Raster Datasets
Help:
Has Raster Attribute Table: false
Edit Fields Info: null
Ownership Based AccessControl For Rasters: null
Child Resources:
Info
Histograms
Key Properties
Legend
MultiDimensionalInfo
rasterFunctionInfos
Supported Operations:
Export Image
Identify
Measure
Compute Histograms
Compute Statistics Histograms
Get Samples
Compute Class Statistics
Query Boundary