View In:
ArcGIS JavaScript
ArcGIS Online Map Viewer
ArcGIS Earth
ArcMap
View Footprint In:
ArcGIS Online Map Viewer
Service Description: PAC/TRIBUGA_batimetria
Name: PAC/TRIBUGA_batimetria
Description:
Single Fused Map Cache: false
Extent:
XMin: 200511.135343705
YMin: 606217.8068185659
XMax: 246418.34110370502
YMax: 669340.214738566
Spatial Reference:
32618
(32618)
Initial Extent:
XMin: 200511.135343705
YMin: 606217.8068185659
XMax: 246418.34110370502
YMax: 669340.214738566
Spatial Reference:
32618
(32618)
Full Extent:
XMin: 200511.135343705
YMin: 606217.8068185659
XMax: 246418.34110370502
YMax: 669340.214738566
Spatial Reference:
32618
(32618)
Pixel Size X: 318.8000400000001
Pixel Size Y: 318.80004000000014
Band Count: 1
Pixel Type: F32
RasterFunction Infos: {"rasterFunctionInfos": [{
"name": "None",
"description": "",
"help": ""
}]}
Mensuration Capabilities: Basic
Has Histograms: true
Has Colormap: false
Has Multi Dimensions : false
Rendering Rule:
Min Scale: 0
Max Scale: 0
Copyright Text:
Service Data Type: esriImageServiceDataTypeGeneric
Min Values: -1.0954822301864624
Max Values: 2118.697265625
Mean Values: 718.0879586944945
Standard Deviation Values: 637.9792160562064
Object ID Field:
Fields:
None
Default Mosaic Method: Center
Allowed Mosaic Methods:
SortField:
SortValue: null
Mosaic Operator: First
Default Compression Quality: 75
Default Resampling Method: Bilinear
Max Record Count: null
Max Image Height: 4100
Max Image Width: 15000
Max Download Image Count: null
Max Mosaic Image Count: null
Allow Raster Function: true
Allow Compute TiePoints: false
Supports Statistics: false
Supports Advanced Queries: false
Use StandardizedQueries: true
Raster Type Infos:
Name: Raster Dataset
Description: Supports all ArcGIS Raster Datasets
Help:
Has Raster Attribute Table: false
Edit Fields Info: null
Ownership Based AccessControl For Rasters: null
Child Resources:
Info
Histograms
Key Properties
Legend
MultiDimensionalInfo
rasterFunctionInfos
Supported Operations:
Export Image
Identify
Measure
Compute Histograms
Compute Statistics Histograms
Get Samples
Compute Class Statistics
Query Boundary